BEGIN:VCALENDAR
VERSION:2.0
PRODID:-//Hui Nalu Canoe Club - ECPv6.15.18//NONSGML v1.0//EN
CALSCALE:GREGORIAN
METHOD:PUBLISH
X-WR-CALNAME:Hui Nalu Canoe Club
X-ORIGINAL-URL:https://huinalu.org
X-WR-CALDESC:Events for Hui Nalu Canoe Club
REFRESH-INTERVAL;VALUE=DURATION:PT1H
X-Robots-Tag:noindex
X-PUBLISHED-TTL:PT1H
BEGIN:VTIMEZONE
TZID:Pacific/Honolulu
BEGIN:STANDARD
TZOFFSETFROM:-1000
TZOFFSETTO:-1000
TZNAME:HST
DTSTART:20250101T000000
END:STANDARD
END:VTIMEZONE
BEGIN:VEVENT
DTSTART;VALUE=DATE:20260607
DTEND;VALUE=DATE:20260608
DTSTAMP:20260419T101906
CREATED:20251203T073737Z
LAST-MODIFIED:20251203T073737Z
UID:10000992-1780790400-1780876799@huinalu.org
SUMMARY:Clement D. Pai`aina Regatta	Ke`ehi Lagoon (Healani)
DESCRIPTION:
URL:https://huinalu.org/event/clement-d-paiaina-regattakeehi-lagoon-healani/
LOCATION:Keʻehi Lagoon Beachpark\, 465 Lagoon Dr\, Honolulu\, HI\, 96819\, United States
END:VEVENT
BEGIN:VEVENT
DTSTART;VALUE=DATE:20260719
DTEND;VALUE=DATE:20260720
DTSTAMP:20260419T101906
CREATED:20251203T075439Z
LAST-MODIFIED:20251203T075439Z
UID:10000998-1784419200-1784505599@huinalu.org
SUMMARY:OHCRA Championships Ke`ehi Lagoon (OHCRA)
DESCRIPTION:
URL:https://huinalu.org/event/ohcra-championships-keehi-lagoon-ohcra/
LOCATION:Keʻehi Lagoon Beachpark\, 465 Lagoon Dr\, Honolulu\, HI\, 96819\, United States
END:VEVENT
END:VCALENDAR