BEGIN:VCALENDAR
VERSION:2.0
PRODID:-//Hui Nalu Canoe Club - ECPv6.15.18//NONSGML v1.0//EN
CALSCALE:GREGORIAN
METHOD:PUBLISH
X-WR-CALNAME:Hui Nalu Canoe Club
X-ORIGINAL-URL:https://huinalu.org
X-WR-CALDESC:Events for Hui Nalu Canoe Club
REFRESH-INTERVAL;VALUE=DURATION:PT1H
X-Robots-Tag:noindex
X-PUBLISHED-TTL:PT1H
BEGIN:VTIMEZONE
TZID:Pacific/Honolulu
BEGIN:STANDARD
TZOFFSETFROM:-1000
TZOFFSETTO:-1000
TZNAME:HST
DTSTART:20240101T000000
END:STANDARD
END:VTIMEZONE
BEGIN:VEVENT
DTSTART;TZID=Pacific/Honolulu:20260307T080000
DTEND;TZID=Pacific/Honolulu:20260307T080000
DTSTAMP:20260419T115856
CREATED:20260303T181342Z
LAST-MODIFIED:20260303T183502Z
UID:10001061-1772870400-1772870400@huinalu.org
SUMMARY:World Sprints Time Trials
DESCRIPTION:
URL:https://huinalu.org/event/world-sprints-time-trials/
LOCATION:Keʻehi Lagoon Beachpark\, 465 Lagoon Dr\, Honolulu\, HI\, 96819\, United States
END:VEVENT
BEGIN:VEVENT
DTSTART;TZID=Pacific/Honolulu:20251108T053000
DTEND;TZID=Pacific/Honolulu:20251108T120000
DTSTAMP:20260419T115856
CREATED:20251022T233050Z
LAST-MODIFIED:20251030T073442Z
UID:10000960-1762579800-1762603200@huinalu.org
SUMMARY:A`a Relaunch
DESCRIPTION:Join the Relaunch of the Aʻa Canoe!\nOHCRA invites you to celebrate the relaunching of the Aʻa on Saturday\, November 8th\, from 6:00 AM to 12:00 PM at Keʻehi Lagoon. \nAbout the Aʻa\nThe Aʻa (affectionately called the ʻĀ) is a historic 40-foot waʻa kialoa (racing canoe) that was owned and raced by Prince Jonah Kūhiō Kalanianaʻole in the early 1900s. It is currently held at the Bishop Museum and is believed to be the first canoe built in modern history specifically for racing\, as part of Prince Kūhiō’s efforts to revitalize the importance of the canoe in Hawaiian culture. \nEvent Highlights\nThe relaunch celebration will feature: \n\nEducational Booths (information on the Aʻa and koa canoes)\nMoʻolelo Sessions (storytelling)\nFood and Drink Vendors\n\nThe Hui Nalu club will also be participating\, bringing their canoe\, the Enay\, to join the launching ceremony. \nRegister and Volunteer\nTo join us at the Aʻa relaunch and to volunteer (kokua)\, please register here https://forms.gle/bCHZ23tZJAerW5sHA. \nFor more details\, contact Mark Cluney at markcluney@gmail.com.
URL:https://huinalu.org/event/aa-relaunch/
LOCATION:Keʻehi Lagoon Beachpark\, 465 Lagoon Dr\, Honolulu\, HI\, 96819\, United States
END:VEVENT
END:VCALENDAR