BEGIN:VCALENDAR
VERSION:2.0
PRODID:-//Hui Nalu Canoe Club - ECPv6.15.18//NONSGML v1.0//EN
CALSCALE:GREGORIAN
METHOD:PUBLISH
X-ORIGINAL-URL:https://huinalu.org
X-WR-CALDESC:Events for Hui Nalu Canoe Club
REFRESH-INTERVAL;VALUE=DURATION:PT1H
X-Robots-Tag:noindex
X-PUBLISHED-TTL:PT1H
BEGIN:VTIMEZONE
TZID:Pacific/Honolulu
BEGIN:STANDARD
TZOFFSETFROM:-1000
TZOFFSETTO:-1000
TZNAME:HST
DTSTART:20250101T000000
END:STANDARD
END:VTIMEZONE
BEGIN:VEVENT
DTSTART;TZID=Pacific/Honolulu:20260329T070000
DTEND;TZID=Pacific/Honolulu:20260329T090000
DTSTAMP:20260419T061124
CREATED:20251203T080352Z
LAST-MODIFIED:20251203T080352Z
UID:10001042-1774767600-1774774800@huinalu.org
SUMMARY:OSP
DESCRIPTION:
URL:https://huinalu.org/event/osp-6/2026-03-29/
LOCATION:Halau\, HI
END:VEVENT
BEGIN:VEVENT
DTSTART;TZID=Pacific/Honolulu:20260325T164500
DTEND;TZID=Pacific/Honolulu:20260325T183000
DTSTAMP:20260419T061124
CREATED:20251203T080241Z
LAST-MODIFIED:20251203T080241Z
UID:10001030-1774457100-1774463400@huinalu.org
SUMMARY:OSP
DESCRIPTION:
URL:https://huinalu.org/event/osp-5/2026-03-25/
LOCATION:Halau\, HI
END:VEVENT
BEGIN:VEVENT
DTSTART;TZID=Pacific/Honolulu:20260322T070000
DTEND;TZID=Pacific/Honolulu:20260322T090000
DTSTAMP:20260419T061124
CREATED:20251203T080352Z
LAST-MODIFIED:20251203T080352Z
UID:10001041-1774162800-1774170000@huinalu.org
SUMMARY:OSP
DESCRIPTION:
URL:https://huinalu.org/event/osp-6/2026-03-22/
LOCATION:Halau\, HI
END:VEVENT
BEGIN:VEVENT
DTSTART;TZID=Pacific/Honolulu:20260321T080000
DTEND;TZID=Pacific/Honolulu:20260321T170000
DTSTAMP:20260419T061124
CREATED:20260312T003439Z
LAST-MODIFIED:20260316T025405Z
UID:10001062-1774080000-1774112400@huinalu.org
SUMMARY:Aloha Aito
DESCRIPTION:https://www.instagram.com/rudderlesshawaiiwaa/
URL:https://huinalu.org/event/aloha-aito/
LOCATION:Halau\, HI
END:VEVENT
BEGIN:VEVENT
DTSTART;TZID=Pacific/Honolulu:20260320T164500
DTEND;TZID=Pacific/Honolulu:20260320T183000
DTSTAMP:20260419T061124
CREATED:20251203T080241Z
LAST-MODIFIED:20251203T080241Z
UID:10001029-1774025100-1774031400@huinalu.org
SUMMARY:OSP
DESCRIPTION:
URL:https://huinalu.org/event/osp-5/2026-03-20/
LOCATION:Halau\, HI
END:VEVENT
BEGIN:VEVENT
DTSTART;TZID=Pacific/Honolulu:20260318T164500
DTEND;TZID=Pacific/Honolulu:20260318T183000
DTSTAMP:20260419T061124
CREATED:20251203T080241Z
LAST-MODIFIED:20251203T080241Z
UID:10001028-1773852300-1773858600@huinalu.org
SUMMARY:OSP
DESCRIPTION:
URL:https://huinalu.org/event/osp-5/2026-03-18/
LOCATION:Halau\, HI
END:VEVENT
BEGIN:VEVENT
DTSTART;TZID=Pacific/Honolulu:20260315T160000
DTEND;TZID=Pacific/Honolulu:20260315T180000
DTSTAMP:20260419T061124
CREATED:20260312T003549Z
LAST-MODIFIED:20260312T003549Z
UID:10001063-1773590400-1773597600@huinalu.org
SUMMARY:Coaches Meeting
DESCRIPTION:
URL:https://huinalu.org/event/coaches-meeting/
LOCATION:Halau\, HI
END:VEVENT
BEGIN:VEVENT
DTSTART;TZID=Pacific/Honolulu:20260315T070000
DTEND;TZID=Pacific/Honolulu:20260315T090000
DTSTAMP:20260419T061124
CREATED:20251203T080352Z
LAST-MODIFIED:20251203T080352Z
UID:10001040-1773558000-1773565200@huinalu.org
SUMMARY:OSP
DESCRIPTION:
URL:https://huinalu.org/event/osp-6/2026-03-15/
LOCATION:Halau\, HI
END:VEVENT
BEGIN:VEVENT
DTSTART;TZID=Pacific/Honolulu:20260313T164500
DTEND;TZID=Pacific/Honolulu:20260313T183000
DTSTAMP:20260419T061124
CREATED:20251203T080241Z
LAST-MODIFIED:20251203T080241Z
UID:10001027-1773420300-1773426600@huinalu.org
SUMMARY:OSP
DESCRIPTION:
URL:https://huinalu.org/event/osp-5/2026-03-13/
LOCATION:Halau\, HI
END:VEVENT
BEGIN:VEVENT
DTSTART;TZID=Pacific/Honolulu:20260308T110000
DTEND;TZID=Pacific/Honolulu:20260308T130000
DTSTAMP:20260419T061124
CREATED:20260312T003619Z
LAST-MODIFIED:20260312T004758Z
UID:10001064-1772967600-1772974800@huinalu.org
SUMMARY:Keiki Coaches Meeting
DESCRIPTION:
URL:https://huinalu.org/event/keiki-coaches-meeting/
LOCATION:Halau\, HI
END:VEVENT
BEGIN:VEVENT
DTSTART;TZID=Pacific/Honolulu:20260308T070000
DTEND;TZID=Pacific/Honolulu:20260308T090000
DTSTAMP:20260419T061124
CREATED:20251203T080352Z
LAST-MODIFIED:20251203T080352Z
UID:10001039-1772953200-1772960400@huinalu.org
SUMMARY:OSP
DESCRIPTION:
URL:https://huinalu.org/event/osp-6/2026-03-08/
LOCATION:Halau\, HI
END:VEVENT
BEGIN:VEVENT
DTSTART;TZID=Pacific/Honolulu:20260306T164500
DTEND;TZID=Pacific/Honolulu:20260306T183000
DTSTAMP:20260419T061124
CREATED:20251203T080241Z
LAST-MODIFIED:20251203T080241Z
UID:10001025-1772815500-1772821800@huinalu.org
SUMMARY:OSP
DESCRIPTION:
URL:https://huinalu.org/event/osp-5/2026-03-06/
LOCATION:Halau\, HI
END:VEVENT
BEGIN:VEVENT
DTSTART;TZID=Pacific/Honolulu:20260304T164500
DTEND;TZID=Pacific/Honolulu:20260304T183000
DTSTAMP:20260419T061124
CREATED:20251203T080241Z
LAST-MODIFIED:20251203T080241Z
UID:10001024-1772642700-1772649000@huinalu.org
SUMMARY:OSP
DESCRIPTION:
URL:https://huinalu.org/event/osp-5/2026-03-04/
LOCATION:Halau\, HI
END:VEVENT
BEGIN:VEVENT
DTSTART;TZID=Pacific/Honolulu:20260301T100000
DTEND;TZID=Pacific/Honolulu:20260301T150000
DTSTAMP:20260419T061124
CREATED:20260129T071155Z
LAST-MODIFIED:20260129T071939Z
UID:10001049-1772359200-1772377200@huinalu.org
SUMMARY:Maunalua Eat the Invaders Community Event
DESCRIPTION:Come check out the “Maunalua Eat the Invaders Fishing Tournament” and learn about the new Fisheries Management Area in Maunalua Bay. Have the keiki learn how to clean fish\, try some ‘onolicious fish by Local l’a & Chef Hui\, and check out what different conservation groups are doing for Mauka to Makai restoration! \nFor more information\, click here!
URL:https://huinalu.org/event/maunalua-eat-the-invaders-fishing-tournament/
LOCATION:Halau\, HI
END:VEVENT
BEGIN:VEVENT
DTSTART;TZID=Pacific/Honolulu:20260301T070000
DTEND;TZID=Pacific/Honolulu:20260301T090000
DTSTAMP:20260419T061124
CREATED:20251203T080352Z
LAST-MODIFIED:20251203T080352Z
UID:10001038-1772348400-1772355600@huinalu.org
SUMMARY:OSP
DESCRIPTION:
URL:https://huinalu.org/event/osp-6/2026-03-01/
LOCATION:Halau\, HI
END:VEVENT
BEGIN:VEVENT
DTSTART;TZID=Pacific/Honolulu:20260227T164500
DTEND;TZID=Pacific/Honolulu:20260227T183000
DTSTAMP:20260419T061124
CREATED:20251203T080241Z
LAST-MODIFIED:20251203T080241Z
UID:10001023-1772210700-1772217000@huinalu.org
SUMMARY:OSP
DESCRIPTION:
URL:https://huinalu.org/event/osp-5/2026-02-27/
LOCATION:Halau\, HI
END:VEVENT
BEGIN:VEVENT
DTSTART;TZID=Pacific/Honolulu:20260225T164500
DTEND;TZID=Pacific/Honolulu:20260225T183000
DTSTAMP:20260419T061124
CREATED:20251203T080241Z
LAST-MODIFIED:20251203T080241Z
UID:10001022-1772037900-1772044200@huinalu.org
SUMMARY:OSP
DESCRIPTION:
URL:https://huinalu.org/event/osp-5/2026-02-25/
LOCATION:Halau\, HI
END:VEVENT
BEGIN:VEVENT
DTSTART;TZID=Pacific/Honolulu:20260222T070000
DTEND;TZID=Pacific/Honolulu:20260222T090000
DTSTAMP:20260419T061124
CREATED:20251203T080352Z
LAST-MODIFIED:20251203T080352Z
UID:10001037-1771743600-1771750800@huinalu.org
SUMMARY:OSP
DESCRIPTION:
URL:https://huinalu.org/event/osp-6/2026-02-22/
LOCATION:Halau\, HI
END:VEVENT
BEGIN:VEVENT
DTSTART;TZID=Pacific/Honolulu:20260220T164500
DTEND;TZID=Pacific/Honolulu:20260220T183000
DTSTAMP:20260419T061124
CREATED:20251203T080241Z
LAST-MODIFIED:20251203T080241Z
UID:10001021-1771605900-1771612200@huinalu.org
SUMMARY:OSP
DESCRIPTION:
URL:https://huinalu.org/event/osp-5/2026-02-20/
LOCATION:Halau\, HI
END:VEVENT
BEGIN:VEVENT
DTSTART;TZID=Pacific/Honolulu:20260218T164500
DTEND;TZID=Pacific/Honolulu:20260218T183000
DTSTAMP:20260419T061124
CREATED:20251203T080241Z
LAST-MODIFIED:20251203T080241Z
UID:10001020-1771433100-1771439400@huinalu.org
SUMMARY:OSP
DESCRIPTION:
URL:https://huinalu.org/event/osp-5/2026-02-18/
LOCATION:Halau\, HI
END:VEVENT
BEGIN:VEVENT
DTSTART;TZID=Pacific/Honolulu:20260215T070000
DTEND;TZID=Pacific/Honolulu:20260215T090000
DTSTAMP:20260419T061124
CREATED:20251203T080352Z
LAST-MODIFIED:20251203T080352Z
UID:10001036-1771138800-1771146000@huinalu.org
SUMMARY:OSP
DESCRIPTION:
URL:https://huinalu.org/event/osp-6/2026-02-15/
LOCATION:Halau\, HI
END:VEVENT
BEGIN:VEVENT
DTSTART;TZID=Pacific/Honolulu:20260213T164500
DTEND;TZID=Pacific/Honolulu:20260213T183000
DTSTAMP:20260419T061124
CREATED:20251203T080241Z
LAST-MODIFIED:20251203T080241Z
UID:10001019-1771001100-1771007400@huinalu.org
SUMMARY:OSP
DESCRIPTION:
URL:https://huinalu.org/event/osp-5/2026-02-13/
LOCATION:Halau\, HI
END:VEVENT
BEGIN:VEVENT
DTSTART;TZID=Pacific/Honolulu:20260211T164500
DTEND;TZID=Pacific/Honolulu:20260211T183000
DTSTAMP:20260419T061124
CREATED:20251203T080241Z
LAST-MODIFIED:20251203T080241Z
UID:10001018-1770828300-1770834600@huinalu.org
SUMMARY:OSP
DESCRIPTION:
URL:https://huinalu.org/event/osp-5/2026-02-11/
LOCATION:Halau\, HI
END:VEVENT
BEGIN:VEVENT
DTSTART;TZID=Pacific/Honolulu:20260208T070000
DTEND;TZID=Pacific/Honolulu:20260208T090000
DTSTAMP:20260419T061124
CREATED:20251203T080352Z
LAST-MODIFIED:20251203T080352Z
UID:10001035-1770534000-1770541200@huinalu.org
SUMMARY:OSP
DESCRIPTION:
URL:https://huinalu.org/event/osp-6/2026-02-08/
LOCATION:Halau\, HI
END:VEVENT
BEGIN:VEVENT
DTSTART;TZID=Pacific/Honolulu:20260206T164500
DTEND;TZID=Pacific/Honolulu:20260206T183000
DTSTAMP:20260419T061124
CREATED:20251203T080241Z
LAST-MODIFIED:20251203T080241Z
UID:10001017-1770396300-1770402600@huinalu.org
SUMMARY:OSP
DESCRIPTION:
URL:https://huinalu.org/event/osp-5/2026-02-06/
LOCATION:Halau\, HI
END:VEVENT
BEGIN:VEVENT
DTSTART;TZID=Pacific/Honolulu:20260204T164500
DTEND;TZID=Pacific/Honolulu:20260204T183000
DTSTAMP:20260419T061124
CREATED:20251203T080241Z
LAST-MODIFIED:20251203T080241Z
UID:10001016-1770223500-1770229800@huinalu.org
SUMMARY:OSP
DESCRIPTION:
URL:https://huinalu.org/event/osp-5/2026-02-04/
LOCATION:Halau\, HI
END:VEVENT
BEGIN:VEVENT
DTSTART;TZID=Pacific/Honolulu:20260201T110000
DTEND;TZID=Pacific/Honolulu:20260201T130000
DTSTAMP:20260419T061124
CREATED:20260112T211608Z
LAST-MODIFIED:20260119T182009Z
UID:10001046-1769943600-1769950800@huinalu.org
SUMMARY:Annual Membership Meeting
DESCRIPTION:
URL:https://huinalu.org/event/annual-membership-meeting/
LOCATION:Halau\, HI
END:VEVENT
BEGIN:VEVENT
DTSTART;TZID=Pacific/Honolulu:20260201T070000
DTEND;TZID=Pacific/Honolulu:20260201T090000
DTSTAMP:20260419T061124
CREATED:20251203T080352Z
LAST-MODIFIED:20251203T080352Z
UID:10001034-1769929200-1769936400@huinalu.org
SUMMARY:OSP
DESCRIPTION:
URL:https://huinalu.org/event/osp-6/2026-02-01/
LOCATION:Halau\, HI
END:VEVENT
BEGIN:VEVENT
DTSTART;TZID=Pacific/Honolulu:20260130T164500
DTEND;TZID=Pacific/Honolulu:20260130T183000
DTSTAMP:20260419T061124
CREATED:20251203T080241Z
LAST-MODIFIED:20251203T080241Z
UID:10001015-1769791500-1769797800@huinalu.org
SUMMARY:OSP
DESCRIPTION:
URL:https://huinalu.org/event/osp-5/2026-01-30/
LOCATION:Halau\, HI
END:VEVENT
BEGIN:VEVENT
DTSTART;TZID=Pacific/Honolulu:20260128T164500
DTEND;TZID=Pacific/Honolulu:20260128T183000
DTSTAMP:20260419T061124
CREATED:20251203T080241Z
LAST-MODIFIED:20251203T080241Z
UID:10001014-1769618700-1769625000@huinalu.org
SUMMARY:OSP
DESCRIPTION:
URL:https://huinalu.org/event/osp-5/2026-01-28/
LOCATION:Halau\, HI
END:VEVENT
END:VCALENDAR