BEGIN:VCALENDAR
VERSION:2.0
PRODID:-//Hui Nalu Canoe Club - ECPv6.15.18//NONSGML v1.0//EN
CALSCALE:GREGORIAN
METHOD:PUBLISH
X-WR-CALNAME:Hui Nalu Canoe Club
X-ORIGINAL-URL:https://huinalu.org
X-WR-CALDESC:Events for Hui Nalu Canoe Club
REFRESH-INTERVAL;VALUE=DURATION:PT1H
X-Robots-Tag:noindex
X-PUBLISHED-TTL:PT1H
BEGIN:VTIMEZONE
TZID:Pacific/Honolulu
BEGIN:STANDARD
TZOFFSETFROM:-1000
TZOFFSETTO:-1000
TZNAME:HST
DTSTART:20250101T000000
END:STANDARD
END:VTIMEZONE
BEGIN:VEVENT
DTSTART;TZID=Pacific/Honolulu:20260308T070000
DTEND;TZID=Pacific/Honolulu:20260308T090000
DTSTAMP:20260420T234021
CREATED:20251203T080352Z
LAST-MODIFIED:20251203T080352Z
UID:10001039-1772953200-1772960400@huinalu.org
SUMMARY:OSP
DESCRIPTION:
URL:https://huinalu.org/event/osp-6/2026-03-08/
LOCATION:Halau\, HI
END:VEVENT
BEGIN:VEVENT
DTSTART;TZID=Pacific/Honolulu:20260308T110000
DTEND;TZID=Pacific/Honolulu:20260308T130000
DTSTAMP:20260420T234021
CREATED:20260312T003619Z
LAST-MODIFIED:20260312T004758Z
UID:10001064-1772967600-1772974800@huinalu.org
SUMMARY:Keiki Coaches Meeting
DESCRIPTION:
URL:https://huinalu.org/event/keiki-coaches-meeting/
LOCATION:Halau\, HI
END:VEVENT
BEGIN:VEVENT
DTSTART;TZID=Pacific/Honolulu:20260313T164500
DTEND;TZID=Pacific/Honolulu:20260313T183000
DTSTAMP:20260420T234021
CREATED:20251203T080241Z
LAST-MODIFIED:20251203T080241Z
UID:10001027-1773420300-1773426600@huinalu.org
SUMMARY:OSP
DESCRIPTION:
URL:https://huinalu.org/event/osp-5/2026-03-13/
LOCATION:Halau\, HI
END:VEVENT
BEGIN:VEVENT
DTSTART;TZID=Pacific/Honolulu:20260315T070000
DTEND;TZID=Pacific/Honolulu:20260315T090000
DTSTAMP:20260420T234021
CREATED:20251203T080352Z
LAST-MODIFIED:20251203T080352Z
UID:10001040-1773558000-1773565200@huinalu.org
SUMMARY:OSP
DESCRIPTION:
URL:https://huinalu.org/event/osp-6/2026-03-15/
LOCATION:Halau\, HI
END:VEVENT
BEGIN:VEVENT
DTSTART;TZID=Pacific/Honolulu:20260315T160000
DTEND;TZID=Pacific/Honolulu:20260315T180000
DTSTAMP:20260420T234021
CREATED:20260312T003549Z
LAST-MODIFIED:20260312T003549Z
UID:10001063-1773590400-1773597600@huinalu.org
SUMMARY:Coaches Meeting
DESCRIPTION:
URL:https://huinalu.org/event/coaches-meeting/
LOCATION:Halau\, HI
END:VEVENT
BEGIN:VEVENT
DTSTART;TZID=Pacific/Honolulu:20260318T164500
DTEND;TZID=Pacific/Honolulu:20260318T183000
DTSTAMP:20260420T234021
CREATED:20251203T080241Z
LAST-MODIFIED:20251203T080241Z
UID:10001028-1773852300-1773858600@huinalu.org
SUMMARY:OSP
DESCRIPTION:
URL:https://huinalu.org/event/osp-5/2026-03-18/
LOCATION:Halau\, HI
END:VEVENT
BEGIN:VEVENT
DTSTART;TZID=Pacific/Honolulu:20260318T190000
DTEND;TZID=Pacific/Honolulu:20260318T190000
DTSTAMP:20260420T234021
CREATED:20260131T075603Z
LAST-MODIFIED:20260312T003326Z
UID:10001052-1773860400-1773860400@huinalu.org
SUMMARY:Board of Directors Meeting
DESCRIPTION:
URL:https://huinalu.org/event/board-of-directors-meeting-3/
LOCATION:HI
END:VEVENT
BEGIN:VEVENT
DTSTART;TZID=Pacific/Honolulu:20260320T164500
DTEND;TZID=Pacific/Honolulu:20260320T183000
DTSTAMP:20260420T234021
CREATED:20251203T080241Z
LAST-MODIFIED:20251203T080241Z
UID:10001029-1774025100-1774031400@huinalu.org
SUMMARY:OSP
DESCRIPTION:
URL:https://huinalu.org/event/osp-5/2026-03-20/
LOCATION:Halau\, HI
END:VEVENT
BEGIN:VEVENT
DTSTART;TZID=Pacific/Honolulu:20260321T080000
DTEND;TZID=Pacific/Honolulu:20260321T170000
DTSTAMP:20260420T234021
CREATED:20260312T003439Z
LAST-MODIFIED:20260316T025405Z
UID:10001062-1774080000-1774112400@huinalu.org
SUMMARY:Aloha Aito
DESCRIPTION:https://www.instagram.com/rudderlesshawaiiwaa/
URL:https://huinalu.org/event/aloha-aito/
LOCATION:Halau\, HI
END:VEVENT
BEGIN:VEVENT
DTSTART;TZID=Pacific/Honolulu:20260322T070000
DTEND;TZID=Pacific/Honolulu:20260322T090000
DTSTAMP:20260420T234021
CREATED:20251203T080352Z
LAST-MODIFIED:20251203T080352Z
UID:10001041-1774162800-1774170000@huinalu.org
SUMMARY:OSP
DESCRIPTION:
URL:https://huinalu.org/event/osp-6/2026-03-22/
LOCATION:Halau\, HI
END:VEVENT
BEGIN:VEVENT
DTSTART;TZID=Pacific/Honolulu:20260325T164500
DTEND;TZID=Pacific/Honolulu:20260325T183000
DTSTAMP:20260420T234021
CREATED:20251203T080241Z
LAST-MODIFIED:20251203T080241Z
UID:10001030-1774457100-1774463400@huinalu.org
SUMMARY:OSP
DESCRIPTION:
URL:https://huinalu.org/event/osp-5/2026-03-25/
LOCATION:Halau\, HI
END:VEVENT
BEGIN:VEVENT
DTSTART;VALUE=DATE:20260328
DTEND;VALUE=DATE:20260329
DTSTAMP:20260420T234021
CREATED:20251203T071228Z
LAST-MODIFIED:20251203T071228Z
UID:10000984-1774656000-1774742399@huinalu.org
SUMMARY:Malama Pono `Ia Na Koa Race-Maunalua Bay/ Alamoana/ Mauliola (Ke Ola O Ke Kai)
DESCRIPTION:
URL:https://huinalu.org/event/malama-pono-ia-na-koa-race-maunalua-bay-alamoana-mauliola-ke-ola-o-ke-kai/
LOCATION:Maunalua Bay/ Alamoana/ Mauliola
END:VEVENT
BEGIN:VEVENT
DTSTART;TZID=Pacific/Honolulu:20260329T070000
DTEND;TZID=Pacific/Honolulu:20260329T090000
DTSTAMP:20260420T234021
CREATED:20251203T080352Z
LAST-MODIFIED:20251203T080352Z
UID:10001042-1774767600-1774774800@huinalu.org
SUMMARY:OSP
DESCRIPTION:
URL:https://huinalu.org/event/osp-6/2026-03-29/
LOCATION:Halau\, HI
END:VEVENT
BEGIN:VEVENT
DTSTART;VALUE=DATE:20260404
DTEND;VALUE=DATE:20260405
DTSTAMP:20260420T234021
CREATED:20251203T071609Z
LAST-MODIFIED:20251203T071609Z
UID:10000985-1775260800-1775347199@huinalu.org
SUMMARY:Malama Mauliola-Mauliola (New Hope)
DESCRIPTION:
URL:https://huinalu.org/event/malama-mauliola-mauliola-new-hope/
LOCATION:Mauliola
END:VEVENT
BEGIN:VEVENT
DTSTART;VALUE=DATE:20260411
DTEND;VALUE=DATE:20260412
DTSTAMP:20260420T234021
CREATED:20251203T071821Z
LAST-MODIFIED:20251203T071821Z
UID:10000986-1775865600-1775951999@huinalu.org
SUMMARY:Gilbert Silva Memorial Race-Mauliola (Keahiakahoe)
DESCRIPTION:
URL:https://huinalu.org/event/gilbert-silva-memorial-race-mauliola-keahiakahoe/
LOCATION:Mauliola
END:VEVENT
BEGIN:VEVENT
DTSTART;TZID=Pacific/Honolulu:20260414T190000
DTEND;TZID=Pacific/Honolulu:20260414T190000
DTSTAMP:20260420T234021
CREATED:20260131T075659Z
LAST-MODIFIED:20260131T075659Z
UID:10001053-1776193200-1776193200@huinalu.org
SUMMARY:Board of Directors Meeting
DESCRIPTION:
URL:https://huinalu.org/event/board-of-directors-meeting-4/
LOCATION:HI
END:VEVENT
BEGIN:VEVENT
DTSTART;VALUE=DATE:20260418
DTEND;VALUE=DATE:20260419
DTSTAMP:20260420T234021
CREATED:20251203T071927Z
LAST-MODIFIED:20251203T071927Z
UID:10000987-1776470400-1776556799@huinalu.org
SUMMARY:TBD-Mauliola (`Imi Ola)
DESCRIPTION:
URL:https://huinalu.org/event/tbd-mauliola-imi-ola/
LOCATION:Mauliola
ORGANIZER;CN="Imiola Canoe Club":MAILTO:lisa.bento@imiolacanoeclub.com
END:VEVENT
BEGIN:VEVENT
DTSTART;VALUE=DATE:20260425
DTEND;VALUE=DATE:20260426
DTSTAMP:20260420T234021
CREATED:20251203T072018Z
LAST-MODIFIED:20251203T072018Z
UID:10000988-1777075200-1777161599@huinalu.org
SUMMARY:Kala Kukea Race-Maunalua Bay (Hui Nalu)
DESCRIPTION:
URL:https://huinalu.org/event/kala-kukea-race-maunalua-bay-hui-nalu/
LOCATION:Halau\, HI
END:VEVENT
BEGIN:VEVENT
DTSTART;VALUE=DATE:20260503
DTEND;VALUE=DATE:20260504
DTSTAMP:20260420T234021
CREATED:20251203T072205Z
LAST-MODIFIED:20251203T072205Z
UID:10000989-1777766400-1777852799@huinalu.org
SUMMARY:Ka Lei O Ka Lanakila-Mauliola (Healani)
DESCRIPTION:
URL:https://huinalu.org/event/ka-lei-o-ka-lanakila-mauliola-healani/
LOCATION:Mauliola
END:VEVENT
BEGIN:VEVENT
DTSTART;VALUE=DATE:20260509
DTEND;VALUE=DATE:20260510
DTSTAMP:20260420T234021
CREATED:20251203T073444Z
LAST-MODIFIED:20251203T073444Z
UID:10000990-1778284800-1778371199@huinalu.org
SUMMARY:Kala'iomalulani Race-Kailua - Kahalu`u Beach (Keahiakahoe)
DESCRIPTION:
URL:https://huinalu.org/event/kalaiomalulani-race-kailua-kahaluu-beach-keahiakahoe/
LOCATION:Kailua – Kahalu`u Beach
END:VEVENT
BEGIN:VEVENT
DTSTART;VALUE=DATE:20260516
DTEND;VALUE=DATE:20260517
DTSTAMP:20260420T234021
CREATED:20251203T073621Z
LAST-MODIFIED:20251203T073621Z
UID:10000991-1778889600-1778975999@huinalu.org
SUMMARY:George Perry Keiki Race-Kailua Beach (Lanikai)
DESCRIPTION:
URL:https://huinalu.org/event/george-perry-keiki-race-kailua-beach-lanikai/
LOCATION:Kailua Beach Park\, 416 Kawailoa Rd\, Kailua\, 96734\, United States
END:VEVENT
BEGIN:VEVENT
DTSTART;TZID=Pacific/Honolulu:20260517T080000
DTEND;TZID=Pacific/Honolulu:20260517T080000
DTSTAMP:20260420T234021
CREATED:20260401T192747Z
LAST-MODIFIED:20260401T192747Z
UID:10001065-1779004800-1779004800@huinalu.org
SUMMARY:Canoe Weighing
DESCRIPTION:
URL:https://huinalu.org/event/canoe-weighing/
LOCATION:Halau\, HI
END:VEVENT
BEGIN:VEVENT
DTSTART;VALUE=DATE:20260607
DTEND;VALUE=DATE:20260608
DTSTAMP:20260420T234021
CREATED:20251203T073737Z
LAST-MODIFIED:20251203T073737Z
UID:10000992-1780790400-1780876799@huinalu.org
SUMMARY:Clement D. Pai`aina Regatta	Ke`ehi Lagoon (Healani)
DESCRIPTION:
URL:https://huinalu.org/event/clement-d-paiaina-regattakeehi-lagoon-healani/
LOCATION:Keʻehi Lagoon Beachpark\, 465 Lagoon Dr\, Honolulu\, HI\, 96819\, United States
END:VEVENT
BEGIN:VEVENT
DTSTART;TZID=Pacific/Honolulu:20260609T190000
DTEND;TZID=Pacific/Honolulu:20260609T190000
DTSTAMP:20260420T234021
CREATED:20260131T075730Z
LAST-MODIFIED:20260131T075800Z
UID:10001054-1781031600-1781031600@huinalu.org
SUMMARY:Board of Directors Meeting
DESCRIPTION:
URL:https://huinalu.org/event/board-of-directors-meeting-5/
LOCATION:HI
END:VEVENT
BEGIN:VEVENT
DTSTART;VALUE=DATE:20260614
DTEND;VALUE=DATE:20260615
DTSTAMP:20260420T234021
CREATED:20251203T073907Z
LAST-MODIFIED:20251203T073907Z
UID:10000993-1781395200-1781481599@huinalu.org
SUMMARY:King Kamehameha Day Regatta Kailua Beach (Kailua)
DESCRIPTION:
URL:https://huinalu.org/event/king-kamehameha-day-regatta-kailua-beach-kailua/
LOCATION:Kailua Beach Park\, 416 Kawailoa Rd\, Kailua\, 96734\, United States
END:VEVENT
BEGIN:VEVENT
DTSTART;VALUE=DATE:20260621
DTEND;VALUE=DATE:20260622
DTSTAMP:20260420T234021
CREATED:20251203T074916Z
LAST-MODIFIED:20251203T074916Z
UID:10000994-1782000000-1782086399@huinalu.org
SUMMARY:Father`s Day Regatta Kalaniana`ole Beach Park (Leeward Kai)
DESCRIPTION:
URL:https://huinalu.org/event/fathers-day-regatta-kalanianaole-beach-park-leeward-kai/
LOCATION:Kalaniana`ole Beach Park
END:VEVENT
BEGIN:VEVENT
DTSTART;VALUE=DATE:20260628
DTEND;VALUE=DATE:20260629
DTSTAMP:20260420T234021
CREATED:20251203T075043Z
LAST-MODIFIED:20251203T075043Z
UID:10000995-1782604800-1782691199@huinalu.org
SUMMARY:Waimanalo Regatta Waimanalo Beach (Waimanalo)
DESCRIPTION:
URL:https://huinalu.org/event/waimanalo-regatta-waimanalo-beach-waimanalo/
LOCATION:Waimanalo Beach Park
END:VEVENT
BEGIN:VEVENT
DTSTART;VALUE=DATE:20260704
DTEND;VALUE=DATE:20260705
DTSTAMP:20260420T234021
CREATED:20251203T075218Z
LAST-MODIFIED:20251203T075218Z
UID:10000996-1783123200-1783209599@huinalu.org
SUMMARY:Walter J. MacFarlane Regatta Waikiki Beach (Outrigger)
DESCRIPTION:
URL:https://huinalu.org/event/walter-j-macfarlane-regatta-waikiki-beach-outrigger/
LOCATION:Waikiki Beach
END:VEVENT
BEGIN:VEVENT
DTSTART;TZID=Pacific/Honolulu:20260708T190000
DTEND;TZID=Pacific/Honolulu:20260708T190000
DTSTAMP:20260420T234021
CREATED:20260131T075901Z
LAST-MODIFIED:20260131T075901Z
UID:10001055-1783537200-1783537200@huinalu.org
SUMMARY:Board of Directors Meeting
DESCRIPTION:
URL:https://huinalu.org/event/board-of-directors-meeting-6/
LOCATION:HI
END:VEVENT
BEGIN:VEVENT
DTSTART;VALUE=DATE:20260712
DTEND;VALUE=DATE:20260713
DTSTAMP:20260420T234021
CREATED:20251203T075316Z
LAST-MODIFIED:20251203T075316Z
UID:10000997-1783814400-1783900799@huinalu.org
SUMMARY:John D. Kaupiko Regatta Kane`ohe Marine Corp Base (Hui Nalu)
DESCRIPTION:
URL:https://huinalu.org/event/john-d-kaupiko-regatta-kaneohe-marine-corp-base-hui-nalu/
LOCATION:Kane`ohe Marine Corp Base
END:VEVENT
END:VCALENDAR